BEGIN:VCALENDAR
PRODID:-//Zentralgasthof Weinböhle//Events V1.0//DE
X-PUBLISHED-TTL:PT12H
X-ORIGINAL-URL:http://www.zentralgasthof.com/?cat=veranstaltungen&p=detail&id=833
VERSION:2.0
CALSCALE:GREGORIAN
METHOD:PUBLISH
BEGIN:VEVENT
CREATED:20260421T132100Z
ORGANIZER:Zentralgasthof Weinböhla
DTSTART:20261101T080000Z
DTEND:20261101T-200Z
UID:20260421T132100Z833@zentralgasthof.com
SEQUENCE:1
DTSTAMP:20260421T132100Z
TRANSP:OPAQUE
SUMMARY:VELOCIUM AUF TOUR | Herbstausfahrt
LOCATION:Kirchplatz 2 | 01689 Weinböhla
URL:http://www.zentralgasthof.com/?cat=veranstaltungen&p=detail&id=833
DESCRIPTION:<p class="MsoNormal" style="text-align: center;"><span style="color: #008000;"><span style="font-size: xx-large;"><b>VELOCIUM AUF TOUR</b></span></span></p><p class="MsoNormal" style="text-align: center;"><span style="color: #008000;"><span style="font-size: xx-large;"><b>Herbstausfahrt&nbsp;</b></span></span></p><p class="MsoNormal"><span style="font-size: x-large;">&nbsp;</span></p><p class="MsoNormal"><span style="font-size: x-large;">Wir fahren von Weinb&ouml;hla durch den herbstlichen Friedewald, vorbei an vielen Teichen</span></p><p class="MsoNormal"><span style="font-size: x-large;"><br /></span></p><p class="MsoNormal"><span style="font-size: x-large;">Start: VELOCIUM Weinb&ouml;hla 10 Uhr</span></p>\n\n<p class="MsoNormal"><span style="font-size: x-large;">Ziel: VELOCIUM ca. 16 Uhr</span></p>\n\n<p class="MsoNormal"><span style="font-size: x-large;">&nbsp;</span></p>\n\n<p class="MsoNormal"><span style="font-size: x-large;">Routenverlauf: ca 50 km</span></p><p class="MsoNormal"><span style="font-size: x-large;">Schwierigkeitsgrad: leicht&nbsp;</span></p>\n\n<p class="MsoNormal"><span style="font-size: x-large;">&nbsp;</span></p>\n\n<p class="MsoListParagraph" style="text-indent: -18.0pt; mso-list: l0 level1 lfo1;"><span style="font-size: x-large;"><span style="mso-ascii-font-family: Calibri; mso-fareast-font-family: Calibri; mso-hansi-font-family: Calibri; mso-bidi-font-family: Calibri;"><span style="mso-list: Ignore;">-<span style="font-style: normal; font-variant: normal; font-weight: normal; font-stretch: normal; line-height: normal; font-size-adjust: none; font-kerning: auto; font-optical-sizing: auto; font-language-override: normal; font-feature-settings: normal; font-variation-settings: normal;">&nbsp;Weinb&ouml;hla |&nbsp;</span></span></span>Velocium\n -&gt; Steinbach -&gt; B&auml;rwalde -&gt; Berbisdorf -&gt; Cunnertswalde -&gt; Moritzburg -&gt; Auer -&gt; Coswig -&gt; Weinb&ouml;hla | Velocium&nbsp;</span></p><p class="MsoNormal"><span style="font-size: x-large;"><br /></span></p><p class="MsoNormal"><span style="font-size: x-large;">Einkehrm&ouml;glichkeiten unterwegs vorhanden</span></p><p class="MsoNormal"><span style="font-size: large;"><br /></span></p><p class="MsoNormal"><span style="font-size: large;">Preis: 8,00 Euro + Selbstverpflegung</span></p>\n\n<p><span style="font-size: large;">Voranmeldung erforderlich <br /></span></p><p><span style="font-size: large;">Tel: 035243 - 56 000&nbsp;</span></p><p><span style="font-size: large;">e-Mail: touristinfo@zentralgasthof.com&nbsp;</span></p><p><span style="font-size: x-large;"><b><span style="text-decoration: underline;">Hinweis:</span></b>\n Sollte die Radtour aufgrund schlechtem Wetters abgesagt werden m&uuml;ssen, \ngibt es eine Woche sp&auml;ter einen Ersatztermin (08.11.2026)</span></p>\n\nhttp://www.zentralgasthof.com/?cat=veranstaltungen&p=detail&id=833
CLASS:PUBLIC
STATUS:CONFIRMED
PARTSTAT:NEEDS-ACTION
END:VEVENT
END:VCALENDAR
