BEGIN:VCALENDAR
PRODID:-//Zentralgasthof Weinböhle//Events V1.0//DE
X-PUBLISHED-TTL:PT12H
X-ORIGINAL-URL:http://www.zentralgasthof.com/?cat=veranstaltungen&p=detail&id=834
VERSION:2.0
CALSCALE:GREGORIAN
METHOD:PUBLISH
BEGIN:VEVENT
CREATED:20260421T134747Z
ORGANIZER:Zentralgasthof Weinböhla
DTSTART:20260613T113000Z
DTEND:20260613T-200Z
UID:20260421T134747Z834@zentralgasthof.com
SEQUENCE:1
DTSTAMP:20260421T134747Z
TRANSP:OPAQUE
SUMMARY:Weinlehrschau | TÃ¼rmewanderung inkl. 4er Weinprobe
LOCATION:Kirchplatz 2 | 01689 Weinböhla
URL:http://www.zentralgasthof.com/?cat=veranstaltungen&p=detail&id=834
DESCRIPTION:<div style="text-align: center;"><span style="font-size: xx-large;"><b>WEINLEHRSCHAU</b></span></div><div style="text-align: center;"><span style="font-size: xx-large;"><b>T&uuml;rmewanderung durch das Oberdorf inkl. 4er Weinprobe</b></span></div><div style="text-align: center;"><br /></div><div><span style="font-size: x-large;"><br /></span></div><br /><div style="text-align: justify;"><span style="font-size: x-large;"><br /></span></div><div><span style="font-size: x-large;">Strecke:\n Start VELOCIUM - Fahrt mit dem &Ouml;PNV (Kosten sind nicht inkl.) - Hotel Laubenschl&ouml;&szlig;chen (Verkostung) - Friedensturm - \nOtti&acute;s Besensch&auml;nke (Verkostung) - K&ouml;nig-Albert-Turm - Oberer Gasthof - \nWalhalla mit Wartturm (Verkostung) - Pension Kalinde (Verkostung) - Ende\n Dorfteich <br /></span></div><div><span style="font-size: x-large;"><br /></span></div><div><span style="font-size: x-large;">Dauer: ca. 3-3,5 Stunden</span></div><div><span style="font-size: x-large;"><b>Treffpunkt:</b> VELOCIUM, Kirchplatz 5, 01689 Weinb&ouml;hla</span></div><div><span style="font-size: x-large;"><br /></span></div><div><span style="font-size: x-large;">Bitte um Beachtung: <br /></span></div><div><span style="font-size: x-large;">Die Wegstrecke vom VELOCIUM zum Hotel Laubenschl&ouml;&szlig;chen wird mit den &Ouml;PNV zur&uuml;ckgelegt.&nbsp;</span></div><div><span style="font-size: x-large;">Fahrkarte ist nicht im Preis enthalten. <br /></span></div><div><span style="font-size: x-large;"><br /></span></div><div><span style="font-size: x-large;"><b>Voranmeldung erw&uuml;nscht</b>:&nbsp;</span></div><div><span style="font-size: x-large;">per e-Mail: touristinfo@zentralgasthof.com oder telefonisch 035243 56 000</span></div>\n\nhttp://www.zentralgasthof.com/?cat=veranstaltungen&p=detail&id=834
CLASS:PUBLIC
STATUS:CONFIRMED
PARTSTAT:NEEDS-ACTION
END:VEVENT
END:VCALENDAR
