BEGIN:VCALENDAR
PRODID:-//Zentralgasthof Weinböhle//Events V1.0//DE
X-PUBLISHED-TTL:PT12H
X-ORIGINAL-URL:http://www.zentralgasthof.com/?cat=veranstaltungen&p=detail&id=839
VERSION:2.0
CALSCALE:GREGORIAN
METHOD:PUBLISH
BEGIN:VEVENT
CREATED:20260421T132456Z
ORGANIZER:Zentralgasthof Weinböhla
DTSTART:20261016T180000Z
DTEND:20261016T-200Z
UID:20260421T132456Z839@zentralgasthof.com
SEQUENCE:1
DTSTAMP:20260421T132456Z
TRANSP:OPAQUE
SUMMARY:La RÃ©union und Madagaskar
LOCATION:Kirchplatz 2 | 01689 Weinböhla
URL:http://www.zentralgasthof.com/?cat=veranstaltungen&p=detail&id=839
DESCRIPTION:<div style="text-align: center;"><span style="font-size: xx-large;"><b>La R&eacute;union und Madagaskar</b></span></div><div style="text-align: center;"><span style="font-size: xx-large;"><b>Reisevortrag von Wolfgang R&ouml;ller</b></span></div><div><br /></div><div><br /></div><div style="text-align: justify;"><span style="font-size: x-large;">Zwei Inseln im Indischen Ozean: Kaum mehr als 700 km voneinander entfernt, aber grundverschieden. Die eine: Zu Frankreich geh&ouml;rendes winziges St&uuml;ckchen der EU - Europa mitten in den Tropen. Die andere: viertgr&ouml;&szlig;te Insel der Erde, voller Exotik und Abenteuer, sehr afrikanisch.</span></div><div style="text-align: justify;"><span style="font-size: x-large;"></span><br /><span style="font-size: x-large;">Vielleicht gerade deshalb ist es so spannend, beide Inseln zu bereisen. Wir beginnen in La R&eacute;union. Zwar existiert eine ausgebaute Infrastruktur wie im Mutterland Frankreich, aber das tropische Klima und die sensationelle Landschaft machen sie zu einem wahren Outdoor-Paradies. Am eindrucksvollsten erlebt man die Szenerie zu Fu&szlig;. Wanderpfade f&uuml;hren durch wild zerkl&uuml;ftete Kraterkessel, tiefe Canyons, Regenw&auml;lder, zu versteckten Wasserf&auml;llen und auf die 2000er und 3000er Gipfel. Und man sp&uuml;rt die Harmonie der Kultu-ren und Religionen - die Bev&ouml;lkerung setzt sich aus den Nachfahren von Einwanderern afrikanischer und europ&auml;ischer, indischer und chinesischer Abstammung zusammen.</span><br /><span style="font-size: x-large;"></span><br /><span style="font-size: x-large;">Nur eine Flugstunde weiter erreichen wir den Inselstaat Madagaskar mit seiner fremdartigen, aber faszinierenden Natur. Das bunte multikulturelle Zusammenleben der Bewohner macht diese Insel zu einem Bindeglied zwischen Afrika und Asien. Die Regenw&auml;lder im Osten sind Heimat unz&auml;hliger Tier- und Pflanzenarten, der Westen hingegen beeindruckt mit seinen riesigen Affenbrotb&auml;umen, den Baobabs. Au&szlig;ergew&ouml;hnliche Naturerlebnisse garantieren auch die Cham&auml;leons und vor allem die vielen Arten von Lemuren, die nur auf Madagaskar zu Hause sind. Wer einmal Kattas und Makis beobachtet oder die mysteri&ouml;sen Schreie der Indris geh&ouml;rt hat, wird sich dem Zauber Madagaskars nie mehr entziehen k&ouml;nnen.&nbsp;</span><br /><span style="font-size: x-large;"></span><br /><span style="font-size: x-large;">Genie&szlig;en Sie in dieser HD-Audiovisions-Schau die exotische Faszination dieser beiden Paradiese im Indischen Ozean!&nbsp;</span><br /><span style="font-size: x-large;"></span><br /><span style="font-size: x-large;">Wolfgang R&ouml;ller, Reisefotograf und Vortragsreferent aus Dresden, widmet sich mit Vorliebe dem Bergsteigen und der Reisefotografie. Seine erste Himalaya-Reise im Jahr 2003 war die Initialz&uuml;ndung f&uuml;r seine AV-Produktionen. Seither f&uuml;hrten ihn Reisen nach Ost-, S&uuml;d- und Nordafrika, den Nahen und Fernen Osten, nach Nord- und S&uuml;damerika, durch Himalaya und Karakorum sowie zu vielen europ&auml;ischen Zielen.&nbsp;</span></div>\n\nhttp://www.zentralgasthof.com/?cat=veranstaltungen&p=detail&id=839
CLASS:PUBLIC
STATUS:CONFIRMED
PARTSTAT:NEEDS-ACTION
END:VEVENT
END:VCALENDAR
