BEGIN:VCALENDAR
PRODID:-//Zentralgasthof Weinböhle//Events V1.0//DE
X-PUBLISHED-TTL:PT12H
X-ORIGINAL-URL:http://www.zentralgasthof.com/?cat=veranstaltungen&p=detail&id=813
VERSION:2.0
CALSCALE:GREGORIAN
METHOD:PUBLISH
BEGIN:VEVENT
CREATED:20260421T120854Z
ORGANIZER:Zentralgasthof Weinböhla
DTSTART:20261204T180000Z
DTEND:20261204T-200Z
UID:20260421T120854Z813@zentralgasthof.com
SEQUENCE:1
DTSTAMP:20260421T120854Z
TRANSP:OPAQUE
SUMMARY:Peter Flache 
LOCATION:Kirchplatz 2 | 01689 Weinböhla
URL:http://www.zentralgasthof.com/?cat=veranstaltungen&p=detail&id=813
DESCRIPTION:<div style="text-align: center;"><b><span style="font-size: xx-large;">Peter Flache&nbsp;</span></b></div><div style="text-align: center;"><br /></div><div><b><span style="font-size: x-large;"><br /></span></b></div><div style="text-align: center;"><b><span style="font-size: x-large;">3 Kokosn&uuml;sse f&uuml;r Rumpelstilzchen&nbsp;</span></b></div><div style="text-align: justify;"><div style="text-align: center;"><b><span style="font-size: x-large;">unver&ouml;ffentlichte M&auml;rchen mit Peter Flache</span></b></div><div style="text-align: center;"><b><span style="font-size: x-large;"><br /></span></b></div><br /><span style="font-size: large;">Es liegt wohl auf der Hand, dass die erst m&uuml;ndlich &uuml;berlieferten, sp&auml;ter von M&auml;rchensammlern wie den Gebr&uuml;dern Grimm zusammengetragenen M&auml;rchen eine Art Auswahl erfuhren. Einige M&auml;rchen waren der damaligen Bev&ouml;lkerung nicht zumutbar und sind erst mit unserem heutigen technischen Hintergrundwissen zu verstehen.&nbsp;<br /><br />Diese aussortierten M&auml;rchen, die sogenannten &bdquo;Unver&ouml;ffentlichten&ldquo;, die bis vor Kurzem noch im Giftschrank der deutschen Literatur lagerten, sind nun erstmalig h&ouml;r- und sichtbar.&nbsp; Vorgetragen von dem Kabarettisten, Schauspieler und Autor Peter Flache ist das ein Muss f&uuml;r Kenner und Sch&auml;tzer. Also f&uuml;r Sie!<br /></span><br /></div>\n\nhttp://www.zentralgasthof.com/?cat=veranstaltungen&p=detail&id=813
CLASS:PUBLIC
STATUS:CONFIRMED
PARTSTAT:NEEDS-ACTION
END:VEVENT
END:VCALENDAR
